BEGIN:VCALENDAR
VERSION:2.0
PRODID:icalendar-ruby
CALSCALE:GREGORIAN
BEGIN:VTIMEZONE
TZID:Europe/Berlin
BEGIN:DAYLIGHT
DTSTART:20260329T030000
TZOFFSETFROM:+0100
TZOFFSETTO:+0200
RRULE:FREQ=YEARLY;BYDAY=-1SU;BYMONTH=3
TZNAME:CEST
END:DAYLIGHT
BEGIN:STANDARD
DTSTART:20261025T020000
TZOFFSETFROM:+0200
TZOFFSETTO:+0100
RRULE:FREQ=YEARLY;BYDAY=-1SU;BYMONTH=10
TZNAME:CET
END:STANDARD
END:VTIMEZONE
BEGIN:VEVENT
DTSTAMP:20260420T055056Z
UID:25313
DTSTART;TZID=Europe/Berlin:20260502T140000
DTEND;TZID=Europe/Berlin:20260502T160000
CREATED:20251114T135219
DESCRIPTION:Event: Chorprobe\n\nChor: Chor - relaBELLed e.V.\n\nOrt: Orches
 terraum Canisianum\n\nTerminkategorie: Probe\n\nhttp://chor-relabelled-e-v
 .blankmusic.org\n\nwww.blankmusic.org
GEO:51.7684593;7.445998500000001
LAST-MODIFIED:20251114T135219
LOCATION:Orchesterraum Canisianum\, Disselhook 6\, 59348 Lüdinghausen\, De
 utschland
SUMMARY:Chorprobe
X-ALT-DESC;FMTTYPE=text/html:Event: <i>Chorprobe</i><br><br>Chor: <i>Chor -
  relaBELLed e.V.</i><br><br>Ort: <i>Orchesterraum Canisianum</i><br><br>Te
 rminkategorie: <i>Probe</i><br><br>http://chor-relabelled-e-v.blankmusic.o
 rg<br><br>www.blankmusic.org
END:VEVENT
END:VCALENDAR
