BEGIN:VCALENDAR
VERSION:2.0
PRODID:icalendar-ruby
CALSCALE:GREGORIAN
BEGIN:VTIMEZONE
TZID:Europe/Berlin
BEGIN:DAYLIGHT
DTSTART:20260329T030000
TZOFFSETFROM:+0100
TZOFFSETTO:+0200
RRULE:FREQ=YEARLY;BYDAY=-1SU;BYMONTH=3
TZNAME:CEST
END:DAYLIGHT
BEGIN:STANDARD
DTSTART:20261025T020000
TZOFFSETFROM:+0200
TZOFFSETTO:+0100
RRULE:FREQ=YEARLY;BYDAY=-1SU;BYMONTH=10
TZNAME:CET
END:STANDARD
END:VTIMEZONE
BEGIN:VEVENT
DTSTAMP:20260421T095406Z
UID:26955
DTSTART;TZID=Europe/Berlin:20260620T110000
DTEND;TZID=Europe/Berlin:20260620T120000
CREATED:20260122T090504
DESCRIPTION:Event: Konfirmation\n\nChor: Shout for Joy - Gospelchor St. Nik
 olai Finkenwerder\n\nOrt: St. Nikolai Kirche\n\nTerminkategorie: Gottesdie
 nst\n\nwww.blankmusic.org
GEO:53.5272275;9.865911299999999
LAST-MODIFIED:20260122T090504
LOCATION:St. Nikolai Kirche\, Finkenwerder Landscheideweg 157\, 21129 Hambu
 rg\, Deutschland
SUMMARY:Konfirmation
X-ALT-DESC;FMTTYPE=text/html:Event: <i>Konfirmation</i><br><br>Chor: <i>Sho
 ut for Joy - Gospelchor St. Nikolai Finkenwerder</i><br><br>Ort: <i>St. Ni
 kolai Kirche</i><br><br>Terminkategorie: <i>Gottesdienst</i><br><br>www.bl
 ankmusic.org
END:VEVENT
END:VCALENDAR
