BEGIN:VCALENDAR
VERSION:2.0
PRODID:icalendar-ruby
CALSCALE:GREGORIAN
BEGIN:VTIMEZONE
TZID:Europe/Berlin
BEGIN:DAYLIGHT
DTSTART:20260329T030000
TZOFFSETFROM:+0100
TZOFFSETTO:+0200
RRULE:FREQ=YEARLY;BYDAY=-1SU;BYMONTH=3
TZNAME:CEST
END:DAYLIGHT
BEGIN:STANDARD
DTSTART:20261025T020000
TZOFFSETFROM:+0200
TZOFFSETTO:+0100
RRULE:FREQ=YEARLY;BYDAY=-1SU;BYMONTH=10
TZNAME:CET
END:STANDARD
END:VTIMEZONE
BEGIN:VEVENT
DTSTAMP:20260419T145754Z
UID:29297
DTSTART;TZID=Europe/Berlin:20260705T100000
DTEND;TZID=Europe/Berlin:20260705T110000
CREATED:20260414T221650
DESCRIPTION:Event: Missa Vivaldi\n\nChor: Ev. Kirchenchor Illingen\n\nTermi
 nkategorie: Gottesdienst\, Gottesdienst/Messe\n\nhttp://ev-kirchenchor-ill
 ingen.blankmusic.org\n\nwww.blankmusic.org
LAST-MODIFIED:20260414T221650
SUMMARY:Missa Vivaldi
X-ALT-DESC;FMTTYPE=text/html:Event: <i>Missa Vivaldi</i><br><br>Chor: <i>Ev
 . Kirchenchor Illingen</i><br><br>Terminkategorie: <i>Gottesdienst\, Gotte
 sdienst/Messe</i><br><br>http://ev-kirchenchor-illingen.blankmusic.org<br>
 <br>www.blankmusic.org
END:VEVENT
END:VCALENDAR
